BEGIN:VCALENDAR
VERSION:2.0
PRODID:-//Department Of Education//7d1b4d1d-b108-4940-88ea-255b2b077832
BEGIN:VTIMEZONE
TZID:Australia/Sydney
TZURL:http://tzurl.org/zoneinfo-outlook/Australia/Sydney
X-LIC-LOCATION:Australia/Sydney
BEGIN:STANDARD
TZOFFSETFROM:+1100
TZOFFSETTO:+1000
TZNAME:AEST
DTSTART:19700405T030000
RRULE:FREQ=YEARLY;BYMONTH=4;BYDAY=1SU
END:STANDARD
BEGIN:DAYLIGHT
TZOFFSETFROM:+1000
TZOFFSETTO:+1100
TZNAME:AEDT
DTSTART:19701004T020000
RRULE:FREQ=YEARLY;BYMONTH=10;BYDAY=1SU
END:DAYLIGHT
END:VTIMEZONE
CALSCALE:GREGORIAN
X-WR-TIMEZONE:Australia/Sydney
BEGIN:VEVENT
DTSTART;TZID=Australia/Sydney:20200302T160009
DTEND;TZID=Australia/Sydney:20200302T190021
DTSTAMP:20200302T000000Z
UID:9436328d-4c0b-4823-b227-4aabb89bdb0d
LOCATION:School Gym
SUMMARY;LANGUAGE=en-us:Year 12 Parent Teacher Night (1)
SEQUENCE:0
DESCRIPTION:Year 12 Parent Teacher Night (1)
END:VEVENT
TRANSP:TRANSPARENT
END:VCALENDAR
